BEGIN:VCALENDAR
VERSION:2.0
PRODID:-//ChamberMaster//Event Calendar 2.0//EN
METHOD:PUBLISH
X-PUBLISHED-TTL:P3D
REFRESH-INTERVAL:P3D
CALSCALE:GREGORIAN
BEGIN:VEVENT
DTSTART:20150808T160000Z
DTEND:20150808T180000Z
X-MICROSOFT-CDO-ALLDAYEVENT:FALSE
SUMMARY:Whale Walk & Talk-Nature Interpretive Center
DESCRIPTION:Beginning at the Nature Interpretive Center our History Walk explores the history of the area. This is a docent led tour with a rotating theme! Please wear comfortable walking shoes for the 1.5 mile tour.
X-ALT-DESC;FMTTYPE=text/html:<span style="font-size:14px\;">Beginning at the Nature Interpretive Center our History Walk explores the history of the area. This is a docent led tour with a rotating theme! Please wear comfortable walking shoes for the 1.5 mile tour.</span>
LOCATION:Nature Interpretive Center 34558 Scenic Drive Dana Point\, CA 92629
UID:e.2189.2614
SEQUENCE:3
DTSTAMP:20260423T071719Z
URL:https://business.danapointchamber.com/events/details/whale-walk-talk-nature-interpretive-center-08-08-2015-2614
END:VEVENT

END:VCALENDAR
