BEGIN:VCALENDAR
VERSION:2.0
PRODID:-//ChamberMaster//Event Calendar 2.0//EN
METHOD:PUBLISH
X-PUBLISHED-TTL:P3D
REFRESH-INTERVAL:P3D
CALSCALE:GREGORIAN
BEGIN:VEVENT
DTSTART:20170519T200000Z
DTEND:20170519T220000Z
X-MICROSOFT-CDO-ALLDAYEVENT:FALSE
SUMMARY:What is Happening in the Brain?
DESCRIPTION:This class will cover changes in the brain that happen when someone has memory loss\, Alzheimer's disease or related dementias. You will learn how someone gets a diagnosis\, and hear about support and resources at Alzheimer's Orange County.
X-ALT-DESC;FMTTYPE=text/html:This class will cover changes in the brain that happen when someone has memory loss\, Alzheimer&rsquo\;s disease or related dementias. You will learn how someone gets a diagnosis\, and hear about support and resources at Alzheimer&rsquo\;s Orange County.
LOCATION:Alzheimer's Orange County 2515 McCabe Way\, Irvine\, CA 92614
UID:e.2189.5555
SEQUENCE:3
DTSTAMP:20260425T134810Z
URL:https://business.danapointchamber.com/events/details/what-is-happening-in-the-brain-05-19-2017-5555
END:VEVENT

END:VCALENDAR
