BEGIN:VCALENDAR
VERSION:2.0
PRODID:-//ChamberMaster//Event Calendar 2.0//EN
METHOD:PUBLISH
X-PUBLISHED-TTL:P3D
REFRESH-INTERVAL:P3D
CALSCALE:GREGORIAN
BEGIN:VEVENT
DTSTART:20170429T130000Z
DTEND:20170429T220000Z
X-MICROSOFT-CDO-ALLDAYEVENT:FALSE
SUMMARY:Woodie Club and Car Show
DESCRIPTION:Start your springtime Southern California style by visiting the annual Woodie Club and Car Show at Doheny State Beach!  Woodies start lining up at the south day-use area at dawn and begin departing in the mid-afternoon.  Don't miss out on this fun-filled day!
X-ALT-DESC;FMTTYPE=text/html:Start your springtime Southern California style by visiting the annual Woodie Club and Car Show at Doheny State Beach! &nbsp\;Woodies start lining up at the south day-use area at dawn and begin departing in the mid-afternoon. &nbsp\;Don&#39\;t miss out on this fun-filled day!&nbsp\;
LOCATION:Doheny State Beach 25300 Dana Point Harbor Dr Dana Point\, CA 92629
UID:e.2189.5198
SEQUENCE:3
DTSTAMP:20260425T163548Z
URL:https://business.danapointchamber.com/events/details/woodie-club-and-car-show-5198
END:VEVENT

END:VCALENDAR
