BEGIN:VCALENDAR
VERSION:2.0
PRODID:-//ChamberMaster//Event Calendar 2.0//EN
METHOD:PUBLISH
X-PUBLISHED-TTL:P3D
REFRESH-INTERVAL:P3D
CALSCALE:GREGORIAN
BEGIN:VEVENT
DTSTART:20150814T000000Z
DTEND:20150814T030000Z
X-MICROSOFT-CDO-ALLDAYEVENT:FALSE
SUMMARY:Yappy Hour 2015
DESCRIPTION:In it's 5th year\, follow Fido to Yappy Hour\, a monthly cocktail party for canines and their companions held on The Dana Lawn at The Ritz-Carlton\, Laguna Niguel. Pooches\, hounds and pups enjoy complimentary hand-made dog biscuits and lapping up refreshing libations\, thanks to bacon\, chicken\, cheese\, beef and liver flavored water\, while their companions can purchase burgers\, brews and wines. Proceeds from the 2015 Yappy Hour season will go to support the Wounded Veteran Initiative for the Canine Companions for Independence.
X-ALT-DESC;FMTTYPE=text/html:In it&#39\;s 5th year\, follow Fido to Yappy Hour\, a monthly cocktail party for canines and their companions held on The Dana Lawn at The Ritz-Carlton\, Laguna Niguel. Pooches\, hounds and pups enjoy complimentary hand-made dog biscuits and lapping up refreshing libations\, thanks to bacon\, chicken\, cheese\, beef and liver flavored water\, while their companions can purchase burgers\, brews and wines. Proceeds from the 2015 Yappy Hour season will go to support the Wounded Veteran Initiative for the Canine Companions for Independence.
LOCATION:The Ritz-Carlton\, Laguna Niguel One Ritz-Carlton Drive Dana Point\, CA 92629
UID:e.2189.2583
SEQUENCE:3
DTSTAMP:20260422T021207Z
URL:https://business.danapointchamber.com/events/details/yappy-hour-2015-08-13-2015-2583
END:VEVENT

END:VCALENDAR
