BEGIN:VCALENDAR
VERSION:2.0
PRODID:-//ChamberMaster//Event Calendar 2.0//EN
METHOD:PUBLISH
X-PUBLISHED-TTL:P3D
REFRESH-INTERVAL:P3D
CALSCALE:GREGORIAN
BEGIN:VEVENT
DTSTART:20151206T190000Z
DTEND:20151206T220000Z
X-MICROSOFT-CDO-ALLDAYEVENT:FALSE
SUMMARY:Yappy Howlidays
DESCRIPTION:Santa Claus will make a special appearance for the Yappy Howl-iday Celebration. This festive gathering of canines and their companions provides Fido with the opportunity to be photographed with the ?Big Dog? himself ? Santa Claus. In keeping with the resort?s Season of Giving\, guests are asked to bring unopened canned or dry dog food\, treats or dog toys to be donated to an animal rescue organization.
X-ALT-DESC;FMTTYPE=text/html:Santa Claus will make a special appearance for the Yappy Howl-iday Celebration. This festive gathering of canines and their companions provides Fido with the opportunity to be photographed with the ?Big Dog? himself ? Santa Claus. In keeping with the resort?s Season of Giving\, guests are asked to bring unopened canned or dry dog food\, treats or dog toys to be donated to an animal rescue organization.
LOCATION:The Ritz-Carlton\, Laguna Niguel One Ritz-Carlton Drive Dana Point\, CA 92629
UID:e.2189.2586
SEQUENCE:3
DTSTAMP:20260422T013742Z
URL:https://business.danapointchamber.com/events/details/yappy-howlidays-12-06-2015-2586
END:VEVENT

END:VCALENDAR
